BEGIN:VCALENDAR
VERSION:2.0
PRODID:-//wp-events-plugin.com//7.2.3.1//EN
TZID:Europe/Berlin
X-WR-TIMEZONE:Europe/Berlin
BEGIN:VEVENT
UID:313@untervaz-reformiert.ch
DTSTART;TZID=Europe/Berlin:20251109T173000
DTEND;TZID=Europe/Berlin:20251109T173000
DTSTAMP:20251109T072755Z
URL:https://untervaz-reformiert.ch/events/st-martins-umzug-2/
SUMMARY:St. Martins-Umzug
DESCRIPTION:St. Martins-Umzug
ATTACH;FMTTYPE=image/jpeg:https://untervaz-reformiert.ch/wp-content/upload
 s/2024/11/Scan-Logo.jpg
CATEGORIES:Kinder,Ökumene
LOCATION:Ref. Kirche Untervaz\, Ulmgasse\, 7204 Untervaz\, Schweiz
X-APPLE-STRUCTURED-LOCATION;VALUE=URI;X-ADDRESS=Ulmgasse\, 7204 Untervaz\, 
 Schweiz;X-APPLE-RADIUS=100;X-TITLE=Ref. Kirche Untervaz:geo:0,0
END:VEVENT
BEGIN:VTIMEZONE
TZID:Europe/Berlin
X-LIC-LOCATION:Europe/Berlin
BEGIN:STANDARD
DTSTART:20251026T020000
TZOFFSETFROM:+0200
TZOFFSETTO:+0100
TZNAME:CET
END:STANDARD
END:VTIMEZONE
END:VCALENDAR