BEGIN:VCALENDAR
VERSION:2.0
PRODID:-//wp-events-plugin.com//7.2.3.1//EN
TZID:Europe/Berlin
X-WR-TIMEZONE:Europe/Berlin
BEGIN:VEVENT
UID:297@untervaz-reformiert.ch
DTSTART;TZID=Europe/Berlin:20251102T100000
DTEND;TZID=Europe/Berlin:20251102T110000
DTSTAMP:20250920T073031Z
URL:https://untervaz-reformiert.ch/events/regionaler-gottesdienst-am-refor
 mationssonntag/
SUMMARY:regionaler Gottesdienst am Reformationssonntag
DESCRIPTION:regionaler Gottesdienst am Reformationssonntag
ATTACH;FMTTYPE=image/jpeg:https://untervaz-reformiert.ch/wp-content/upload
 s/2018/03/cropped-Logo-Kirche-1.png
CATEGORIES:Gottesdienst,Region
LOCATION:Ref. Kirche Trimmis\, Chilchgass 2\, 7203 Trimmis\, Schweiz
X-APPLE-STRUCTURED-LOCATION;VALUE=URI;X-ADDRESS=Chilchgass 2\, 7203 Trimmis
 \, Schweiz;X-APPLE-RADIUS=100;X-TITLE=Ref. Kirche Trimmis:geo:0,0
END:VEVENT
BEGIN:VTIMEZONE
TZID:Europe/Berlin
X-LIC-LOCATION:Europe/Berlin
BEGIN:STANDARD
DTSTART:20251026T020000
TZOFFSETFROM:+0200
TZOFFSETTO:+0100
TZNAME:CET
END:STANDARD
END:VTIMEZONE
END:VCALENDAR