BEGIN:VCALENDAR
VERSION:2.0
PRODID:-//wp-events-plugin.com//7.2.3.1//EN
TZID:Europe/Berlin
X-WR-TIMEZONE:Europe/Berlin
BEGIN:VEVENT
UID:317@untervaz-reformiert.ch
DTSTART;TZID=Europe/Berlin:20260113T153000
DTEND;TZID=Europe/Berlin:20260113T153000
DTSTAMP:20251121T130222Z
URL:https://untervaz-reformiert.ch/events/oekumenische-chlichinderfiir-10/
SUMMARY:Ökumenische Chlichinderfiir
DESCRIPTION:Die Chlichinderfiir richtet sich an Kinder ab dem 3. Lebensjahr
 . Jüngere Geschwister sind natürlich auch herzlich willkommen!
ATTACH;FMTTYPE=image/jpeg:https://untervaz-reformiert.ch/wp-content/upload
 s/2023/12/Chlichinderfiir.png
CATEGORIES:Kinder,Ökumene
LOCATION:Kath. Kirche Untervaz\, Kirchgasse\, 7204 Untervaz\, Schweiz
X-APPLE-STRUCTURED-LOCATION;VALUE=URI;X-ADDRESS=Kirchgasse\, 7204 Untervaz\
 , Schweiz;X-APPLE-RADIUS=100;X-TITLE=Kath. Kirche Untervaz:geo:0,0
END:VEVENT
BEGIN:VTIMEZONE
TZID:Europe/Berlin
X-LIC-LOCATION:Europe/Berlin
BEGIN:STANDARD
DTSTART:20251026T020000
TZOFFSETFROM:+0200
TZOFFSETTO:+0100
TZNAME:CET
END:STANDARD
END:VTIMEZONE
END:VCALENDAR