BEGIN:VCALENDAR
VERSION:2.0
PRODID:-//wp-events-plugin.com//7.2.3.1//EN
TZID:Europe/Berlin
X-WR-TIMEZONE:Europe/Berlin
BEGIN:VEVENT
UID:283@untervaz-reformiert.ch
DTSTART;TZID=Europe/Berlin:20250821T120000
DTEND;TZID=Europe/Berlin:20250821T120000
DTSTAMP:20250519T165240Z
URL:https://untervaz-reformiert.ch/events/mittagstisch-im-sternen-6/
SUMMARY:Mittagstisch im Sternen
DESCRIPTION:Alle\, die gerne gemeinsam an einem Tisch essen möchten\, sind
  herzlich eingeladen. Anmeldung im Rest. Sternen\, Tel 081 322 14 74
ATTACH;FMTTYPE=image/jpeg:https://untervaz-reformiert.ch/wp-content/upload
 s/2023/12/20190604_182915-scaled-e1734337964634.jpg
CATEGORIES:Ökumene,SeniorInnen
LOCATION:Restaurant Sternen\, Stotz 1\, 7204 Untervaz\, Schweiz
X-APPLE-STRUCTURED-LOCATION;VALUE=URI;X-ADDRESS=Stotz 1\, 7204 Untervaz\, S
 chweiz;X-APPLE-RADIUS=100;X-TITLE=Restaurant Sternen:geo:0,0
END:VEVENT
BEGIN:VTIMEZONE
TZID:Europe/Berlin
X-LIC-LOCATION:Europe/Berlin
BEGIN:DAYLIGHT
DTSTART:20250330T030000
TZOFFSETFROM:+0100
TZOFFSETTO:+0200
TZNAME:CEST
END:DAYLIGHT
END:VTIMEZONE
END:VCALENDAR