BEGIN:VCALENDAR
VERSION:2.0
PRODID:-//wp-events-plugin.com//7.2.3.1//EN
TZID:Europe/Berlin
X-WR-TIMEZONE:Europe/Berlin
BEGIN:VEVENT
UID:290@untervaz-reformiert.ch
DTSTART;TZID=Europe/Berlin:20251218T120000
DTEND;TZID=Europe/Berlin:20251218T120000
DTSTAMP:20250920T071223Z
URL:https://untervaz-reformiert.ch/events/mittagstisch-23/
SUMMARY:Mittagstisch
DESCRIPTION:Mittagstisch im Restaurant Sternen
CATEGORIES:Ökumene,SeniorInnen
LOCATION:Restaurant Sternen\, Stotz 1\, 7204 Untervaz\, Schweiz
X-APPLE-STRUCTURED-LOCATION;VALUE=URI;X-ADDRESS=Stotz 1\, 7204 Untervaz\, S
 chweiz;X-APPLE-RADIUS=100;X-TITLE=Restaurant Sternen:geo:0,0
END:VEVENT
BEGIN:VTIMEZONE
TZID:Europe/Berlin
X-LIC-LOCATION:Europe/Berlin
BEGIN:STANDARD
DTSTART:20251026T020000
TZOFFSETFROM:+0200
TZOFFSETTO:+0100
TZNAME:CET
END:STANDARD
END:VTIMEZONE
END:VCALENDAR