BEGIN:VCALENDAR
VERSION:2.0
PRODID:-//wp-events-plugin.com//7.2.3.1//EN
TZID:Europe/Berlin
X-WR-TIMEZONE:Europe/Berlin
BEGIN:VEVENT
UID:287@untervaz-reformiert.ch
DTSTART;TZID=Europe/Berlin:20251016T120000
DTEND;TZID=Europe/Berlin:20251016T120000
DTSTAMP:20250821T172223Z
URL:https://untervaz-reformiert.ch/events/mittagstisch-21/
SUMMARY:Mittagstisch
DESCRIPTION:Mittagstisch im Restaurant Sternen
CATEGORIES:Ökumene,SeniorInnen
LOCATION:Restaurant Sternen\, Stotz 1\, 7204 Untervaz\, Schweiz
X-APPLE-STRUCTURED-LOCATION;VALUE=URI;X-ADDRESS=Stotz 1\, 7204 Untervaz\, S
 chweiz;X-APPLE-RADIUS=100;X-TITLE=Restaurant Sternen:geo:0,0
END:VEVENT
BEGIN:VTIMEZONE
TZID:Europe/Berlin
X-LIC-LOCATION:Europe/Berlin
BEGIN:DAYLIGHT
DTSTART:20250330T030000
TZOFFSETFROM:+0100
TZOFFSETTO:+0200
TZNAME:CEST
END:DAYLIGHT
END:VTIMEZONE
END:VCALENDAR