BEGIN:VCALENDAR
VERSION:2.0
PRODID:-//wp-events-plugin.com//7.2.3.1//EN
TZID:Europe/Berlin
X-WR-TIMEZONE:Europe/Berlin
BEGIN:VEVENT
UID:272@untervaz-reformiert.ch
DTSTART;TZID=Europe/Berlin:20250328T190000
DTEND;TZID=Europe/Berlin:20250328T190000
DTSTAMP:20250314T144732Z
URL:https://untervaz-reformiert.ch/events/kirchgemeindeversammlung-4/
SUMMARY:Kirchgemeindeversammlung
DESCRIPTION:\n\nWir laden Sie herzlich zur ordentlichen Kirchgemeindeversam
 mlung am Freitag\, den 28.03.2025 um 19.00 Uhr im Kirchgemeindehaus ein.\n
 \n \n\nDie Unterlagen der Kirchgemeindeversammlung werden ab dem 22.03.202
 5 unter Allgemein/Downloads aufgeschaltet.\n\n
LOCATION:Ref. Kirchgemeindehaus Untervaz\, Ulmgasse\, 7204 Untervaz\, Schwe
 iz
X-APPLE-STRUCTURED-LOCATION;VALUE=URI;X-ADDRESS=Ulmgasse\, 7204 Untervaz\, 
 Schweiz;X-APPLE-RADIUS=100;X-TITLE=Ref. Kirchgemeindehaus Untervaz:geo:0,0
END:VEVENT
BEGIN:VTIMEZONE
TZID:Europe/Berlin
X-LIC-LOCATION:Europe/Berlin
BEGIN:STANDARD
DTSTART:20241027T020000
TZOFFSETFROM:+0200
TZOFFSETTO:+0100
TZNAME:CET
END:STANDARD
END:VTIMEZONE
END:VCALENDAR