BEGIN:VCALENDAR
VERSION:2.0
PRODID:-//wp-events-plugin.com//7.2.3.1//EN
TZID:Europe/Berlin
X-WR-TIMEZONE:Europe/Berlin
BEGIN:VEVENT
UID:284@untervaz-reformiert.ch
DTSTART;TZID=Europe/Berlin:20250823T200000
DTEND;TZID=Europe/Berlin:20250823T200000
DTSTAMP:20250519T165647Z
URL:https://untervaz-reformiert.ch/events/kirchen-kino-zizers/
SUMMARY:Kirchen-Kino Zizers
DESCRIPTION:Kirchen-Kino in Zizers mit Pfarrer Adorjan Török
LOCATION:Ref. Kirche Zizers\, Vialstrasse\, 7205 Zizers\, Schweiz
X-APPLE-STRUCTURED-LOCATION;VALUE=URI;X-ADDRESS=Vialstrasse\, 7205 Zizers\,
  Schweiz;X-APPLE-RADIUS=100;X-TITLE=Ref. Kirche Zizers:geo:0,0
END:VEVENT
BEGIN:VTIMEZONE
TZID:Europe/Berlin
X-LIC-LOCATION:Europe/Berlin
BEGIN:DAYLIGHT
DTSTART:20250330T030000
TZOFFSETFROM:+0100
TZOFFSETTO:+0200
TZNAME:CEST
END:DAYLIGHT
END:VTIMEZONE
END:VCALENDAR