BEGIN:VCALENDAR
VERSION:2.0
PRODID:-//wp-events-plugin.com//7.2.3.1//EN
TZID:Europe/Berlin
X-WR-TIMEZONE:Europe/Berlin
BEGIN:VEVENT
UID:378@untervaz-reformiert.ch
DTSTART;TZID=Europe/Berlin:20260612T170000
DTEND;TZID=Europe/Berlin:20260613T170000
DTSTAMP:20260417T075748Z
URL:https://untervaz-reformiert.ch/events/kiki-treff-mit-kirchenuebernacht
 ung/
SUMMARY:KiKi Treff mit Kirchenübernachtung
DESCRIPTION:mehr Infos hier...
ATTACH;FMTTYPE=image/jpeg:https://untervaz-reformiert.ch/wp-content/upload
 s/2025/09/KiKi-e1528278851371-768x718-1.jpg
CATEGORIES:Kinder
END:VEVENT
BEGIN:VTIMEZONE
TZID:Europe/Berlin
X-LIC-LOCATION:Europe/Berlin
BEGIN:DAYLIGHT
DTSTART:20260329T030000
TZOFFSETFROM:+0100
TZOFFSETTO:+0200
TZNAME:CEST
END:DAYLIGHT
END:VTIMEZONE
END:VCALENDAR