BEGIN:VCALENDAR
VERSION:2.0
PRODID:-//wp-events-plugin.com//7.2.3.1//EN
TZID:Europe/Berlin
X-WR-TIMEZONE:Europe/Berlin
BEGIN:VEVENT
UID:289@untervaz-reformiert.ch
DTSTART;TZID=Europe/Berlin:20250920T090000
DTEND;TZID=Europe/Berlin:20250920T090000
DTSTAMP:20250821T172449Z
URL:https://untervaz-reformiert.ch/events/kiki-treff-17/
SUMMARY:KiKi-Treff
DESCRIPTION:Der KiKi-Treff ist ein Angebot unserer Kirchgemeinde für Kinde
 r vom 1. Kindergarten bis zur 2. Klasse. 
LOCATION:Ref. Kirchgemeindehaus Untervaz\, Ulmgasse\, 7204 Untervaz\, Schwe
 iz
X-APPLE-STRUCTURED-LOCATION;VALUE=URI;X-ADDRESS=Ulmgasse\, 7204 Untervaz\, 
 Schweiz;X-APPLE-RADIUS=100;X-TITLE=Ref. Kirchgemeindehaus Untervaz:geo:0,0
END:VEVENT
BEGIN:VTIMEZONE
TZID:Europe/Berlin
X-LIC-LOCATION:Europe/Berlin
BEGIN:DAYLIGHT
DTSTART:20250330T030000
TZOFFSETFROM:+0100
TZOFFSETTO:+0200
TZNAME:CEST
END:DAYLIGHT
END:VTIMEZONE
END:VCALENDAR