BEGIN:VCALENDAR
VERSION:2.0
PRODID:-//wp-events-plugin.com//7.2.3.1//EN
TZID:Europe/Berlin
X-WR-TIMEZONE:Europe/Berlin
BEGIN:VEVENT
UID:228@untervaz-reformiert.ch
DTSTART;TZID=Europe/Berlin:20250111T090000
DTEND;TZID=Europe/Berlin:20250111T113000
DTSTAMP:20241216T084403Z
URL:https://untervaz-reformiert.ch/events/kiki-treff-13/
SUMMARY:KiKi-Treff
DESCRIPTION:Der KiKi-Treff\, Kirche für Kinder\, ist für Kinder vom 1. Ki
 ndergarten bis zur 2. Klasse und wird von Monika Todon geleitet. Treffpunk
 t ist das reformierte Kirchgemeindehaus.
ATTACH;FMTTYPE=image/jpeg:https://untervaz-reformiert.ch/wp-content/upload
 s/2018/06/KiKi-e1528278851371.jpg
CATEGORIES:Kinder
LOCATION:Ref. Kirchgemeindehaus Untervaz\, Ulmgasse\, 7204 Untervaz\, Schwe
 iz
X-APPLE-STRUCTURED-LOCATION;VALUE=URI;X-ADDRESS=Ulmgasse\, 7204 Untervaz\, 
 Schweiz;X-APPLE-RADIUS=100;X-TITLE=Ref. Kirchgemeindehaus Untervaz:geo:0,0
END:VEVENT
BEGIN:VTIMEZONE
TZID:Europe/Berlin
X-LIC-LOCATION:Europe/Berlin
BEGIN:STANDARD
DTSTART:20241027T020000
TZOFFSETFROM:+0200
TZOFFSETTO:+0100
TZNAME:CET
END:STANDARD
END:VTIMEZONE
END:VCALENDAR