BEGIN:VCALENDAR
VERSION:2.0
PRODID:-//wp-events-plugin.com//7.2.3.1//EN
TZID:Europe/Berlin
X-WR-TIMEZONE:Europe/Berlin
BEGIN:VEVENT
UID:200@untervaz-reformiert.ch
DTSTART;TZID=Europe/Berlin:20241224T160000
DTEND;TZID=Europe/Berlin:20241224T160000
DTSTAMP:20241216T141645Z
URL:https://untervaz-reformiert.ch/events/heiligabend-krippenspiel-2/
SUMMARY:Heiligabend Krippenspiel
DESCRIPTION:Das ökumenische Krippenspiel hat Tradition. Jedes Jahr nimmt e
 s ein neues Thema auf.
ATTACH;FMTTYPE=image/jpeg:https://untervaz-reformiert.ch/wp-content/upload
 s/2024/05/Icon_oekumenisch.png
CATEGORIES:Gottesdienst
LOCATION:Kath. Kirche Untervaz\, Kirchgasse\, 7204 Untervaz\, Schweiz
X-APPLE-STRUCTURED-LOCATION;VALUE=URI;X-ADDRESS=Kirchgasse\, 7204 Untervaz\
 , Schweiz;X-APPLE-RADIUS=100;X-TITLE=Kath. Kirche Untervaz:geo:0,0
END:VEVENT
BEGIN:VTIMEZONE
TZID:Europe/Berlin
X-LIC-LOCATION:Europe/Berlin
BEGIN:STANDARD
DTSTART:20241027T020000
TZOFFSETFROM:+0200
TZOFFSETTO:+0100
TZNAME:CET
END:STANDARD
END:VTIMEZONE
END:VCALENDAR