BEGIN:VCALENDAR
VERSION:2.0
PRODID:-//wp-events-plugin.com//7.2.3.1//EN
TZID:Europe/Berlin
X-WR-TIMEZONE:Europe/Berlin
BEGIN:VEVENT
UID:382@untervaz-reformiert.ch
DTSTART;TZID=Europe/Berlin:20260719T100000
DTEND;TZID=Europe/Berlin:20260719T110000
DTSTAMP:20260417T080846Z
URL:https://untervaz-reformiert.ch/events/gottesdienst-mit-kirchenkaffee-3
 /
SUMMARY:Gottesdienst mit Kirchenkaffee
DESCRIPTION:Gottesdienst
ATTACH;FMTTYPE=image/jpeg:https://untervaz-reformiert.ch/wp-content/upload
 s/2018/03/cropped-Logo-Kirche-1.png
CATEGORIES:Gottesdienst
LOCATION:Ref. Kirche Zizers\, Vialstrasse\, 7205 Zizers\, Schweiz
X-APPLE-STRUCTURED-LOCATION;VALUE=URI;X-ADDRESS=Vialstrasse\, 7205 Zizers\,
  Schweiz;X-APPLE-RADIUS=100;X-TITLE=Ref. Kirche Zizers:geo:0,0
END:VEVENT
BEGIN:VTIMEZONE
TZID:Europe/Berlin
X-LIC-LOCATION:Europe/Berlin
BEGIN:DAYLIGHT
DTSTART:20260329T030000
TZOFFSETFROM:+0100
TZOFFSETTO:+0200
TZNAME:CEST
END:DAYLIGHT
END:VTIMEZONE
END:VCALENDAR