BEGIN:VCALENDAR
VERSION:2.0
PRODID:-//wp-events-plugin.com//7.2.3.1//EN
TZID:Europe/Berlin
X-WR-TIMEZONE:Europe/Berlin
BEGIN:VEVENT
UID:376@untervaz-reformiert.ch
DTSTART;TZID=Europe/Berlin:20260614T100000
DTEND;TZID=Europe/Berlin:20260614T110000
DTSTAMP:20260417T075245Z
URL:https://untervaz-reformiert.ch/events/gottesdienst-im-gruenen-3/
SUMMARY:Gottesdienst im Grünen
DESCRIPTION:Gottesdienst
ATTACH;FMTTYPE=image/jpeg:https://untervaz-reformiert.ch/wp-content/upload
 s/2018/03/cropped-Logo-Kirche-1.png
CATEGORIES:Gottesdienst
LOCATION:Käppali\, Patnal\, Untervaz\, Schweiz
X-APPLE-STRUCTURED-LOCATION;VALUE=URI;X-ADDRESS=Patnal\, Untervaz\, Schweiz
 ;X-APPLE-RADIUS=100;X-TITLE=Käppali:geo:0,0
END:VEVENT
BEGIN:VTIMEZONE
TZID:Europe/Berlin
X-LIC-LOCATION:Europe/Berlin
BEGIN:DAYLIGHT
DTSTART:20260329T030000
TZOFFSETFROM:+0100
TZOFFSETTO:+0200
TZNAME:CEST
END:DAYLIGHT
END:VTIMEZONE
END:VCALENDAR