BEGIN:VCALENDAR
VERSION:2.0
PRODID:-//wp-events-plugin.com//7.2.3.1//EN
TZID:Europe/Berlin
X-WR-TIMEZONE:Europe/Berlin
BEGIN:VEVENT
UID:234@untervaz-reformiert.ch
DTSTART;TZID=Europe/Berlin:20250129T190000
DTEND;TZID=Europe/Berlin:20250129T193000
DTSTAMP:20241216T102656Z
URL:https://untervaz-reformiert.ch/events/friedensgebet-5/
SUMMARY:Friedensgebet
DESCRIPTION:Wir halten gemeinsam kurz inne und beten für den Frieden in di
 eser Welt. Mit Anna (Musle) Allemann und Sibylle Looser.
ATTACH;FMTTYPE=image/jpeg:https://untervaz-reformiert.ch/wp-content/upload
 s/2024/05/Taube.jpg
CATEGORIES:Gottesdienst,Ökumene
LOCATION:Ref. Kirchgemeindehaus Untervaz\, Ulmgasse\, 7204 Untervaz\, Schwe
 iz
X-APPLE-STRUCTURED-LOCATION;VALUE=URI;X-ADDRESS=Ulmgasse\, 7204 Untervaz\, 
 Schweiz;X-APPLE-RADIUS=100;X-TITLE=Ref. Kirchgemeindehaus Untervaz:geo:0,0
END:VEVENT
BEGIN:VTIMEZONE
TZID:Europe/Berlin
X-LIC-LOCATION:Europe/Berlin
BEGIN:STANDARD
DTSTART:20241027T020000
TZOFFSETFROM:+0200
TZOFFSETTO:+0100
TZNAME:CET
END:STANDARD
END:VTIMEZONE
END:VCALENDAR