BEGIN:VCALENDAR
VERSION:2.0
PRODID:-//wp-events-plugin.com//7.2.3.1//EN
TZID:Europe/Berlin
X-WR-TIMEZONE:Europe/Berlin
BEGIN:VEVENT
UID:282@untervaz-reformiert.ch
DTSTART;TZID=Europe/Berlin:20250803T103000
DTEND;TZID=Europe/Berlin:20250803T113000
DTSTAMP:20250502T100354Z
URL:https://untervaz-reformiert.ch/events/alpgottesdienst-salaz/
SUMMARY:Alpgottesdienst Salaz
DESCRIPTION:Alpgottesdienst mit Pfarrer Isaac und Pfarrer Sonderegger
CATEGORIES:Gottesdienst
LOCATION:Alp Salaz\, Alp Salaz\, 7204 Untervaz\, Schweiz
X-APPLE-STRUCTURED-LOCATION;VALUE=URI;X-ADDRESS=Alp Salaz\, 7204 Untervaz\,
  Schweiz;X-APPLE-RADIUS=100;X-TITLE=Alp Salaz:geo:0,0
END:VEVENT
BEGIN:VTIMEZONE
TZID:Europe/Berlin
X-LIC-LOCATION:Europe/Berlin
BEGIN:DAYLIGHT
DTSTART:20250330T030000
TZOFFSETFROM:+0100
TZOFFSETTO:+0200
TZNAME:CEST
END:DAYLIGHT
END:VTIMEZONE
END:VCALENDAR