BEGIN:VCALENDAR
VERSION:2.0
PRODID:-//wp-events-plugin.com//7.2.3.1//EN
TZID:Europe/Berlin
X-WR-TIMEZONE:Europe/Berlin
BEGIN:VEVENT
UID:212@untervaz-reformiert.ch
DTSTART;TZID=Europe/Berlin:20241107T193000
DTEND;TZID=Europe/Berlin:20241107T210000
DTSTAMP:20241021T123209Z
URL:https://untervaz-reformiert.ch/events/500-jahre-graubuenden-deus-in-bu
 rnout-rettet-graubuenden-die-welt/
SUMMARY:500 Jahre Graubünden „Deus in Burnout – rettet Graubünden die
  Welt?“
DESCRIPTION:Der Bündner Kabarettist Luca Maurizio begleitet die Ausstellun
 g mit einem satirisch-philosophischen Kabarett zum Thema: „Deus in Burno
 ut – rettet Graubünden die Welt?“ Aufführung am Donnerstag\, 7. Nove
 mber\, 19:30 Uhr im evangelischen Kirchgemeindehaus Landquart. Offeriert w
 ird danach ein Apéro.\n\nInformationen INFO_Deus_in_Burnout
LOCATION:Evangelisches Kirchgemeindehaus Landquart\, Rheinstrasse 2\, Landq
 uart\, Schweiz
X-APPLE-STRUCTURED-LOCATION;VALUE=URI;X-ADDRESS=Rheinstrasse 2\, Landquart\
 , Schweiz;X-APPLE-RADIUS=100;X-TITLE=Evangelisches Kirchgemeindehaus Landq
 uart:geo:0,0
END:VEVENT
BEGIN:VTIMEZONE
TZID:Europe/Berlin
X-LIC-LOCATION:Europe/Berlin
BEGIN:STANDARD
DTSTART:20241027T020000
TZOFFSETFROM:+0200
TZOFFSETTO:+0100
TZNAME:CET
END:STANDARD
END:VTIMEZONE
END:VCALENDAR