BEGIN:VCALENDAR
VERSION:2.0
PRODID:-//wp-events-plugin.com//7.2.3.1//EN
TZID:Europe/Berlin
X-WR-TIMEZONE:Europe/Berlin
BEGIN:VEVENT
UID:193@untervaz-reformiert.ch
DTSTART;TZID=Europe/Berlin:20241201T093000
DTEND;TZID=Europe/Berlin:20241201T093000
DTSTAMP:20241123T094823Z
URL:https://untervaz-reformiert.ch/events/1-advents-gottesdienst-vorstelle
 n-konfirmanden/
SUMMARY:1. Advents Gottesdienst\, Vorstellen der Konfirmandenklasse
DESCRIPTION:Pfrn. Constanze Broelemann. Die Konfirmandinnen und Konfirmande
 n stellen sich vor.
ATTACH;FMTTYPE=image/jpeg:https://untervaz-reformiert.ch/wp-content/upload
 s/2018/03/cropped-Logo-Kirche-1.png
CATEGORIES:Gottesdienst
LOCATION:Ref. Kirche Untervaz\, Ulmgasse\, 7204 Untervaz\, Schweiz
X-APPLE-STRUCTURED-LOCATION;VALUE=URI;X-ADDRESS=Ulmgasse\, 7204 Untervaz\, 
 Schweiz;X-APPLE-RADIUS=100;X-TITLE=Ref. Kirche Untervaz:geo:0,0
END:VEVENT
BEGIN:VTIMEZONE
TZID:Europe/Berlin
X-LIC-LOCATION:Europe/Berlin
BEGIN:STANDARD
DTSTART:20241027T020000
TZOFFSETFROM:+0200
TZOFFSETTO:+0100
TZNAME:CET
END:STANDARD
END:VTIMEZONE
END:VCALENDAR